BEGIN:VCALENDAR
VERSION:2.0
PRODID:-//Wet on Wellington - ECPv6.15.20//NONSGML v1.0//EN
CALSCALE:GREGORIAN
METHOD:PUBLISH
X-ORIGINAL-URL:https://wetonwellington.com.au
X-WR-CALDESC:Events for Wet on Wellington
REFRESH-INTERVAL;VALUE=DURATION:PT1H
X-Robots-Tag:noindex
X-PUBLISHED-TTL:PT1H
BEGIN:VTIMEZONE
TZID:Australia/Melbourne
BEGIN:STANDARD
TZOFFSETFROM:+1100
TZOFFSETTO:+1000
TZNAME:AEST
DTSTART:20250405T160000
END:STANDARD
BEGIN:DAYLIGHT
TZOFFSETFROM:+1000
TZOFFSETTO:+1100
TZNAME:AEDT
DTSTART:20251004T160000
END:DAYLIGHT
BEGIN:STANDARD
TZOFFSETFROM:+1100
TZOFFSETTO:+1000
TZNAME:AEST
DTSTART:20260404T160000
END:STANDARD
BEGIN:DAYLIGHT
TZOFFSETFROM:+1000
TZOFFSETTO:+1100
TZNAME:AEDT
DTSTART:20261003T160000
END:DAYLIGHT
BEGIN:STANDARD
TZOFFSETFROM:+1100
TZOFFSETTO:+1000
TZNAME:AEST
DTSTART:20270403T160000
END:STANDARD
BEGIN:DAYLIGHT
TZOFFSETFROM:+1000
TZOFFSETTO:+1100
TZNAME:AEDT
DTSTART:20271002T160000
END:DAYLIGHT
END:VTIMEZONE
BEGIN:VEVENT
DTSTART;TZID=Australia/Melbourne:20260413T183000
DTEND;TZID=Australia/Melbourne:20260414T020000
DTSTAMP:20260426T134829
CREATED:20251017T035209Z
LAST-MODIFIED:20260310T011349Z
UID:10002094-1776105000-1776132000@wetonwellington.com.au
SUMMARY:Under 30s Night November
DESCRIPTION:UNDER 30’s & XPOSED NUDE NIGHT SWAPPED FOR THE MONTH OF APRIL… \nIt’s time to party it up! \nThe first Monday of every month we dedicate to all boys 30 years old and younger! \nID required at entry. \nVCAT EXEMPTION: #H112/2023
URL:https://wetonwellington.com.au/event/under-30s-night-swapped/
LOCATION:Wet on Wellington\, 162 Wellington Street\, Collingwood\, VIC\, 3066\, Australia
ATTACH;FMTTYPE=image/jpeg:https://wetonwellington.com.au/wp-content/uploads/2025/10/Under-30s-2025-1080p.jpg
END:VEVENT
BEGIN:VEVENT
DTSTART;TZID=Australia/Melbourne:20260414T183000
DTEND;TZID=Australia/Melbourne:20260414T183000
DTSTAMP:20260426T134829
CREATED:20251017T125629Z
LAST-MODIFIED:20260310T000622Z
UID:10001723-1776191400-1776191400@wetonwellington.com.au
SUMMARY:Furocious Bear Night
DESCRIPTION:A night for Bears\, Cubs\, Otters & Pandas…. And those who love them! Cum on in and wet your fur!
URL:https://wetonwellington.com.au/event/furocious-bear-night-2/2026-04-14/
LOCATION:Wet on Wellington\, 162 Wellington Street\, Collingwood\, VIC\, 3066\, Australia
ATTACH;FMTTYPE=image/jpeg:https://wetonwellington.com.au/wp-content/uploads/2025/10/Bear-Night-1080p-2026.jpg
END:VEVENT
BEGIN:VEVENT
DTSTART;TZID=Australia/Melbourne:20260415T183000
DTEND;TZID=Australia/Melbourne:20260415T183000
DTSTAMP:20260426T134829
CREATED:20251017T054648Z
LAST-MODIFIED:20260302T024512Z
UID:10001463-1776277800-1776277800@wetonwellington.com.au
SUMMARY:Silver Daddy Night
DESCRIPTION:A night for all our sexy DADDIES and those who love them!
URL:https://wetonwellington.com.au/event/silver-daddy-night/2026-04-15/
LOCATION:Wet on Wellington\, 162 Wellington Street\, Collingwood\, VIC\, 3066\, Australia
ATTACH;FMTTYPE=image/jpeg:https://wetonwellington.com.au/wp-content/uploads/2025/10/Silver-1080p-2026-.jpg
END:VEVENT
BEGIN:VEVENT
DTSTART;TZID=Australia/Melbourne:20260416T183000
DTEND;TZID=Australia/Melbourne:20260417T013000
DTSTAMP:20260426T134829
CREATED:20251017T054402Z
LAST-MODIFIED:20260310T010640Z
UID:10002438-1776364200-1776389400@wetonwellington.com.au
SUMMARY:Queer AF
DESCRIPTION:A night for all our Gay\, Bi\, Trans\, Crossdressers and anyone part of our LGBTQI+ community – Whoever you are\, whatever you’re into\, YOU ARE WELCOME!
URL:https://wetonwellington.com.au/event/queer-af/2026-04-16/
LOCATION:Wet on Wellington\, 162 Wellington Street\, Collingwood\, VIC\, 3066\, Australia
ATTACH;FMTTYPE=image/jpeg:https://wetonwellington.com.au/wp-content/uploads/2025/10/Queer-AF-1080p-2026.jpg
END:VEVENT
BEGIN:VEVENT
DTSTART;TZID=Australia/Melbourne:20260417T200000
DTEND;TZID=Australia/Melbourne:20260417T230000
DTSTAMP:20260426T134829
CREATED:20251015T075300Z
LAST-MODIFIED:20251217T041551Z
UID:10000941-1776456000-1776466800@wetonwellington.com.au
SUMMARY:Happy Hour
DESCRIPTION:Kick off the weekend the RIGHT way at Wet on Wellington with Happy Hour every Friday from 8pm till 11pm! \nEnjoy a sauna with a $5 beer or even hang out in the spa with a $6 vodka\, lime and soda! Whatever your poison\, we have it here for Happy Hour! \n$5 OFF SELECT BEER & WINE AND $6 OFF SELECT SPIRITS!! \nDon’t forget we’re also open 24hrs till Monday 2am!!
URL:https://wetonwellington.com.au/event/happy-hour/2026-04-17/
LOCATION:Wet on Wellington\, 162 Wellington Street\, Collingwood\, VIC\, 3066\, Australia
ATTACH;FMTTYPE=image/png:https://wetonwellington.com.au/wp-content/uploads/2025/10/Red-Cream-Modern-Happy-Hour-Instagram-Story-1920-x-1080-px-2.png
END:VEVENT
BEGIN:VEVENT
DTSTART;TZID=Australia/Melbourne:20260420T190000
DTEND;TZID=Australia/Melbourne:20260421T020000
DTSTAMP:20260426T134829
CREATED:20251015T074736Z
LAST-MODIFIED:20251017T054344Z
UID:10000601-1776711600-1776736800@wetonwellington.com.au
SUMMARY:Swingers Couples Pool Party
DESCRIPTION:$100 COUPLES\, $45 LADIES\, $350 SINGLE MEN* | Melbourne’ s most luxurious and erotic Men’s Club opens its doors for Swingers to engage in the sensuality of a naked and uninhibited Pool Party. Guests can indulge in all of the erotic and luxurious facilities that Wet On Wellington is famous for. \n*Single Men are required to pre-book by calling the venue on (03) 9419 2210. \nPlease note: Couples that arrive together must also depart together as a couple. Females can not depart without their male partner. Men are NOT allowed to be upstairs without a female partner unless entered as a Single Male.
URL:https://wetonwellington.com.au/event/swingers-couples-pool-party/2026-04-20/
LOCATION:Wet on Wellington\, 162 Wellington Street\, Collingwood\, VIC\, 3066\, Australia
ATTACH;FMTTYPE=image/jpeg:https://wetonwellington.com.au/wp-content/uploads/2025/10/Swingers-Couples-Pool-Party-1080p-2025.jpg
ORGANIZER;CN="Melbourne Swingers":MAILTO:info@melbourne-swingers.com.au
END:VEVENT
BEGIN:VEVENT
DTSTART;TZID=Australia/Melbourne:20260421T183000
DTEND;TZID=Australia/Melbourne:20260421T183000
DTSTAMP:20260426T134829
CREATED:20251017T125629Z
LAST-MODIFIED:20260310T000622Z
UID:10001724-1776796200-1776796200@wetonwellington.com.au
SUMMARY:Furocious Bear Night
DESCRIPTION:A night for Bears\, Cubs\, Otters & Pandas…. And those who love them! Cum on in and wet your fur!
URL:https://wetonwellington.com.au/event/furocious-bear-night-2/2026-04-21/
LOCATION:Wet on Wellington\, 162 Wellington Street\, Collingwood\, VIC\, 3066\, Australia
ATTACH;FMTTYPE=image/jpeg:https://wetonwellington.com.au/wp-content/uploads/2025/10/Bear-Night-1080p-2026.jpg
END:VEVENT
BEGIN:VEVENT
DTSTART;TZID=Australia/Melbourne:20260422T183000
DTEND;TZID=Australia/Melbourne:20260422T183000
DTSTAMP:20260426T134829
CREATED:20251017T054648Z
LAST-MODIFIED:20260302T024512Z
UID:10001464-1776882600-1776882600@wetonwellington.com.au
SUMMARY:Silver Daddy Night
DESCRIPTION:A night for all our sexy DADDIES and those who love them!
URL:https://wetonwellington.com.au/event/silver-daddy-night/2026-04-22/
LOCATION:Wet on Wellington\, 162 Wellington Street\, Collingwood\, VIC\, 3066\, Australia
ATTACH;FMTTYPE=image/jpeg:https://wetonwellington.com.au/wp-content/uploads/2025/10/Silver-1080p-2026-.jpg
END:VEVENT
BEGIN:VEVENT
DTSTART;TZID=Australia/Melbourne:20260423T183000
DTEND;TZID=Australia/Melbourne:20260424T013000
DTSTAMP:20260426T134829
CREATED:20251017T054402Z
LAST-MODIFIED:20260310T010640Z
UID:10002439-1776969000-1776994200@wetonwellington.com.au
SUMMARY:Queer AF
DESCRIPTION:A night for all our Gay\, Bi\, Trans\, Crossdressers and anyone part of our LGBTQI+ community – Whoever you are\, whatever you’re into\, YOU ARE WELCOME!
URL:https://wetonwellington.com.au/event/queer-af/2026-04-23/
LOCATION:Wet on Wellington\, 162 Wellington Street\, Collingwood\, VIC\, 3066\, Australia
ATTACH;FMTTYPE=image/jpeg:https://wetonwellington.com.au/wp-content/uploads/2025/10/Queer-AF-1080p-2026.jpg
END:VEVENT
BEGIN:VEVENT
DTSTART;TZID=Australia/Melbourne:20260424T200000
DTEND;TZID=Australia/Melbourne:20260424T230000
DTSTAMP:20260426T134829
CREATED:20251015T075300Z
LAST-MODIFIED:20251217T041551Z
UID:10000942-1777060800-1777071600@wetonwellington.com.au
SUMMARY:Happy Hour
DESCRIPTION:Kick off the weekend the RIGHT way at Wet on Wellington with Happy Hour every Friday from 8pm till 11pm! \nEnjoy a sauna with a $5 beer or even hang out in the spa with a $6 vodka\, lime and soda! Whatever your poison\, we have it here for Happy Hour! \n$5 OFF SELECT BEER & WINE AND $6 OFF SELECT SPIRITS!! \nDon’t forget we’re also open 24hrs till Monday 2am!!
URL:https://wetonwellington.com.au/event/happy-hour/2026-04-24/
LOCATION:Wet on Wellington\, 162 Wellington Street\, Collingwood\, VIC\, 3066\, Australia
ATTACH;FMTTYPE=image/png:https://wetonwellington.com.au/wp-content/uploads/2025/10/Red-Cream-Modern-Happy-Hour-Instagram-Story-1920-x-1080-px-2.png
END:VEVENT
BEGIN:VEVENT
DTSTART;TZID=Australia/Melbourne:20260427T183000
DTEND;TZID=Australia/Melbourne:20260428T020000
DTSTAMP:20260426T134829
CREATED:20251017T033530Z
LAST-MODIFIED:20260310T011442Z
UID:10001979-1777314600-1777341600@wetonwellington.com.au
SUMMARY:Xposed Nude Night
DESCRIPTION:Strip down and strut your stuff during Nude Night! Time to get those c*ck’s out and those bums up! Let it all hang out and get ‘xposed’ in a non-judgemental space. \nCompulsory nudity venue wide! \n*$35 Entry on a Public Holiday.
URL:https://wetonwellington.com.au/event/xposed-nude-night/2026-04-27/
LOCATION:Wet on Wellington\, 162 Wellington Street\, Collingwood\, VIC\, 3066\, Australia
ATTACH;FMTTYPE=image/jpeg:https://wetonwellington.com.au/wp-content/uploads/2025/10/Xposed-Nude-1080P-2026.jpg
END:VEVENT
BEGIN:VEVENT
DTSTART;TZID=Australia/Melbourne:20260428T183000
DTEND;TZID=Australia/Melbourne:20260428T183000
DTSTAMP:20260426T134829
CREATED:20251017T125629Z
LAST-MODIFIED:20260310T000622Z
UID:10001725-1777401000-1777401000@wetonwellington.com.au
SUMMARY:Furocious Bear Night
DESCRIPTION:A night for Bears\, Cubs\, Otters & Pandas…. And those who love them! Cum on in and wet your fur!
URL:https://wetonwellington.com.au/event/furocious-bear-night-2/2026-04-28/
LOCATION:Wet on Wellington\, 162 Wellington Street\, Collingwood\, VIC\, 3066\, Australia
ATTACH;FMTTYPE=image/jpeg:https://wetonwellington.com.au/wp-content/uploads/2025/10/Bear-Night-1080p-2026.jpg
END:VEVENT
BEGIN:VEVENT
DTSTART;TZID=Australia/Melbourne:20260429T183000
DTEND;TZID=Australia/Melbourne:20260429T183000
DTSTAMP:20260426T134829
CREATED:20251017T054648Z
LAST-MODIFIED:20260302T024512Z
UID:10001465-1777487400-1777487400@wetonwellington.com.au
SUMMARY:Silver Daddy Night
DESCRIPTION:A night for all our sexy DADDIES and those who love them!
URL:https://wetonwellington.com.au/event/silver-daddy-night/2026-04-29/
LOCATION:Wet on Wellington\, 162 Wellington Street\, Collingwood\, VIC\, 3066\, Australia
ATTACH;FMTTYPE=image/jpeg:https://wetonwellington.com.au/wp-content/uploads/2025/10/Silver-1080p-2026-.jpg
END:VEVENT
BEGIN:VEVENT
DTSTART;TZID=Australia/Melbourne:20260430T183000
DTEND;TZID=Australia/Melbourne:20260501T013000
DTSTAMP:20260426T134829
CREATED:20251017T054402Z
LAST-MODIFIED:20260310T010640Z
UID:10002440-1777573800-1777599000@wetonwellington.com.au
SUMMARY:Queer AF
DESCRIPTION:A night for all our Gay\, Bi\, Trans\, Crossdressers and anyone part of our LGBTQI+ community – Whoever you are\, whatever you’re into\, YOU ARE WELCOME!
URL:https://wetonwellington.com.au/event/queer-af/2026-04-30/
LOCATION:Wet on Wellington\, 162 Wellington Street\, Collingwood\, VIC\, 3066\, Australia
ATTACH;FMTTYPE=image/jpeg:https://wetonwellington.com.au/wp-content/uploads/2025/10/Queer-AF-1080p-2026.jpg
END:VEVENT
BEGIN:VEVENT
DTSTART;TZID=Australia/Melbourne:20260501T200000
DTEND;TZID=Australia/Melbourne:20260501T230000
DTSTAMP:20260426T134829
CREATED:20251015T075300Z
LAST-MODIFIED:20251217T041551Z
UID:10000943-1777665600-1777676400@wetonwellington.com.au
SUMMARY:Happy Hour
DESCRIPTION:Kick off the weekend the RIGHT way at Wet on Wellington with Happy Hour every Friday from 8pm till 11pm! \nEnjoy a sauna with a $5 beer or even hang out in the spa with a $6 vodka\, lime and soda! Whatever your poison\, we have it here for Happy Hour! \n$5 OFF SELECT BEER & WINE AND $6 OFF SELECT SPIRITS!! \nDon’t forget we’re also open 24hrs till Monday 2am!!
URL:https://wetonwellington.com.au/event/happy-hour/2026-05-01/
LOCATION:Wet on Wellington\, 162 Wellington Street\, Collingwood\, VIC\, 3066\, Australia
ATTACH;FMTTYPE=image/png:https://wetonwellington.com.au/wp-content/uploads/2025/10/Red-Cream-Modern-Happy-Hour-Instagram-Story-1920-x-1080-px-2.png
END:VEVENT
BEGIN:VEVENT
DTSTART;TZID=Australia/Melbourne:20260504T183000
DTEND;TZID=Australia/Melbourne:20260504T183000
DTSTAMP:20260426T134829
CREATED:20251015T074052Z
LAST-MODIFIED:20260414T021957Z
UID:10002189-1777919400-1777919400@wetonwellington.com.au
SUMMARY:Under 30s Night
DESCRIPTION:It’s time to party it up! \nThe first Monday of every month we dedicate to all boys 30 years old and younger! \nID required at entry. \nVCAT EXEMPTION: #H112/2023
URL:https://wetonwellington.com.au/event/under-30s-night/2026-05-04/
LOCATION:Wet on Wellington\, 162 Wellington Street\, Collingwood\, VIC\, 3066\, Australia
ATTACH;FMTTYPE=image/jpeg:https://wetonwellington.com.au/wp-content/uploads/2025/10/Under-30s-2024-1080p-PSD.jpg
END:VEVENT
BEGIN:VEVENT
DTSTART;TZID=Australia/Melbourne:20260505T183000
DTEND;TZID=Australia/Melbourne:20260505T183000
DTSTAMP:20260426T134829
CREATED:20251017T125629Z
LAST-MODIFIED:20260310T000622Z
UID:10001726-1778005800-1778005800@wetonwellington.com.au
SUMMARY:Furocious Bear Night
DESCRIPTION:A night for Bears\, Cubs\, Otters & Pandas…. And those who love them! Cum on in and wet your fur!
URL:https://wetonwellington.com.au/event/furocious-bear-night-2/2026-05-05/
LOCATION:Wet on Wellington\, 162 Wellington Street\, Collingwood\, VIC\, 3066\, Australia
ATTACH;FMTTYPE=image/jpeg:https://wetonwellington.com.au/wp-content/uploads/2025/10/Bear-Night-1080p-2026.jpg
END:VEVENT
BEGIN:VEVENT
DTSTART;TZID=Australia/Melbourne:20260506T183000
DTEND;TZID=Australia/Melbourne:20260506T183000
DTSTAMP:20260426T134829
CREATED:20251017T054648Z
LAST-MODIFIED:20260302T024512Z
UID:10001466-1778092200-1778092200@wetonwellington.com.au
SUMMARY:Silver Daddy Night
DESCRIPTION:A night for all our sexy DADDIES and those who love them!
URL:https://wetonwellington.com.au/event/silver-daddy-night/2026-05-06/
LOCATION:Wet on Wellington\, 162 Wellington Street\, Collingwood\, VIC\, 3066\, Australia
ATTACH;FMTTYPE=image/jpeg:https://wetonwellington.com.au/wp-content/uploads/2025/10/Silver-1080p-2026-.jpg
END:VEVENT
BEGIN:VEVENT
DTSTART;TZID=Australia/Melbourne:20260507T183000
DTEND;TZID=Australia/Melbourne:20260508T013000
DTSTAMP:20260426T134829
CREATED:20251017T054402Z
LAST-MODIFIED:20260310T010640Z
UID:10002441-1778178600-1778203800@wetonwellington.com.au
SUMMARY:Queer AF
DESCRIPTION:A night for all our Gay\, Bi\, Trans\, Crossdressers and anyone part of our LGBTQI+ community – Whoever you are\, whatever you’re into\, YOU ARE WELCOME!
URL:https://wetonwellington.com.au/event/queer-af/2026-05-07/
LOCATION:Wet on Wellington\, 162 Wellington Street\, Collingwood\, VIC\, 3066\, Australia
ATTACH;FMTTYPE=image/jpeg:https://wetonwellington.com.au/wp-content/uploads/2025/10/Queer-AF-1080p-2026.jpg
END:VEVENT
BEGIN:VEVENT
DTSTART;TZID=Australia/Melbourne:20260508T200000
DTEND;TZID=Australia/Melbourne:20260508T230000
DTSTAMP:20260426T134829
CREATED:20251015T075300Z
LAST-MODIFIED:20251217T041551Z
UID:10000944-1778270400-1778281200@wetonwellington.com.au
SUMMARY:Happy Hour
DESCRIPTION:Kick off the weekend the RIGHT way at Wet on Wellington with Happy Hour every Friday from 8pm till 11pm! \nEnjoy a sauna with a $5 beer or even hang out in the spa with a $6 vodka\, lime and soda! Whatever your poison\, we have it here for Happy Hour! \n$5 OFF SELECT BEER & WINE AND $6 OFF SELECT SPIRITS!! \nDon’t forget we’re also open 24hrs till Monday 2am!!
URL:https://wetonwellington.com.au/event/happy-hour/2026-05-08/
LOCATION:Wet on Wellington\, 162 Wellington Street\, Collingwood\, VIC\, 3066\, Australia
ATTACH;FMTTYPE=image/png:https://wetonwellington.com.au/wp-content/uploads/2025/10/Red-Cream-Modern-Happy-Hour-Instagram-Story-1920-x-1080-px-2.png
END:VEVENT
BEGIN:VEVENT
DTSTART;TZID=Australia/Melbourne:20260511T183000
DTEND;TZID=Australia/Melbourne:20260512T020000
DTSTAMP:20260426T134829
CREATED:20251017T033530Z
LAST-MODIFIED:20260310T011442Z
UID:10001980-1778524200-1778551200@wetonwellington.com.au
SUMMARY:Xposed Nude Night
DESCRIPTION:Strip down and strut your stuff during Nude Night! Time to get those c*ck’s out and those bums up! Let it all hang out and get ‘xposed’ in a non-judgemental space. \nCompulsory nudity venue wide! \n*$35 Entry on a Public Holiday.
URL:https://wetonwellington.com.au/event/xposed-nude-night/2026-05-11/
LOCATION:Wet on Wellington\, 162 Wellington Street\, Collingwood\, VIC\, 3066\, Australia
ATTACH;FMTTYPE=image/jpeg:https://wetonwellington.com.au/wp-content/uploads/2025/10/Xposed-Nude-1080P-2026.jpg
END:VEVENT
BEGIN:VEVENT
DTSTART;TZID=Australia/Melbourne:20260512T183000
DTEND;TZID=Australia/Melbourne:20260512T183000
DTSTAMP:20260426T134829
CREATED:20251017T125629Z
LAST-MODIFIED:20260310T000622Z
UID:10001727-1778610600-1778610600@wetonwellington.com.au
SUMMARY:Furocious Bear Night
DESCRIPTION:A night for Bears\, Cubs\, Otters & Pandas…. And those who love them! Cum on in and wet your fur!
URL:https://wetonwellington.com.au/event/furocious-bear-night-2/2026-05-12/
LOCATION:Wet on Wellington\, 162 Wellington Street\, Collingwood\, VIC\, 3066\, Australia
ATTACH;FMTTYPE=image/jpeg:https://wetonwellington.com.au/wp-content/uploads/2025/10/Bear-Night-1080p-2026.jpg
END:VEVENT
BEGIN:VEVENT
DTSTART;TZID=Australia/Melbourne:20260513T183000
DTEND;TZID=Australia/Melbourne:20260513T183000
DTSTAMP:20260426T134829
CREATED:20251017T054648Z
LAST-MODIFIED:20260302T024512Z
UID:10001467-1778697000-1778697000@wetonwellington.com.au
SUMMARY:Silver Daddy Night
DESCRIPTION:A night for all our sexy DADDIES and those who love them!
URL:https://wetonwellington.com.au/event/silver-daddy-night/2026-05-13/
LOCATION:Wet on Wellington\, 162 Wellington Street\, Collingwood\, VIC\, 3066\, Australia
ATTACH;FMTTYPE=image/jpeg:https://wetonwellington.com.au/wp-content/uploads/2025/10/Silver-1080p-2026-.jpg
END:VEVENT
BEGIN:VEVENT
DTSTART;TZID=Australia/Melbourne:20260514T183000
DTEND;TZID=Australia/Melbourne:20260515T013000
DTSTAMP:20260426T134829
CREATED:20251017T054402Z
LAST-MODIFIED:20260310T010640Z
UID:10002442-1778783400-1778808600@wetonwellington.com.au
SUMMARY:Queer AF
DESCRIPTION:A night for all our Gay\, Bi\, Trans\, Crossdressers and anyone part of our LGBTQI+ community – Whoever you are\, whatever you’re into\, YOU ARE WELCOME!
URL:https://wetonwellington.com.au/event/queer-af/2026-05-14/
LOCATION:Wet on Wellington\, 162 Wellington Street\, Collingwood\, VIC\, 3066\, Australia
ATTACH;FMTTYPE=image/jpeg:https://wetonwellington.com.au/wp-content/uploads/2025/10/Queer-AF-1080p-2026.jpg
END:VEVENT
BEGIN:VEVENT
DTSTART;TZID=Australia/Melbourne:20260515T200000
DTEND;TZID=Australia/Melbourne:20260515T230000
DTSTAMP:20260426T134829
CREATED:20251015T075300Z
LAST-MODIFIED:20251217T041551Z
UID:10000945-1778875200-1778886000@wetonwellington.com.au
SUMMARY:Happy Hour
DESCRIPTION:Kick off the weekend the RIGHT way at Wet on Wellington with Happy Hour every Friday from 8pm till 11pm! \nEnjoy a sauna with a $5 beer or even hang out in the spa with a $6 vodka\, lime and soda! Whatever your poison\, we have it here for Happy Hour! \n$5 OFF SELECT BEER & WINE AND $6 OFF SELECT SPIRITS!! \nDon’t forget we’re also open 24hrs till Monday 2am!!
URL:https://wetonwellington.com.au/event/happy-hour/2026-05-15/
LOCATION:Wet on Wellington\, 162 Wellington Street\, Collingwood\, VIC\, 3066\, Australia
ATTACH;FMTTYPE=image/png:https://wetonwellington.com.au/wp-content/uploads/2025/10/Red-Cream-Modern-Happy-Hour-Instagram-Story-1920-x-1080-px-2.png
END:VEVENT
BEGIN:VEVENT
DTSTART;TZID=Australia/Melbourne:20260518T190000
DTEND;TZID=Australia/Melbourne:20260519T020000
DTSTAMP:20260426T134829
CREATED:20251015T074736Z
LAST-MODIFIED:20251017T054344Z
UID:10000602-1779130800-1779156000@wetonwellington.com.au
SUMMARY:Swingers Couples Pool Party
DESCRIPTION:$100 COUPLES\, $45 LADIES\, $350 SINGLE MEN* | Melbourne’ s most luxurious and erotic Men’s Club opens its doors for Swingers to engage in the sensuality of a naked and uninhibited Pool Party. Guests can indulge in all of the erotic and luxurious facilities that Wet On Wellington is famous for. \n*Single Men are required to pre-book by calling the venue on (03) 9419 2210. \nPlease note: Couples that arrive together must also depart together as a couple. Females can not depart without their male partner. Men are NOT allowed to be upstairs without a female partner unless entered as a Single Male.
URL:https://wetonwellington.com.au/event/swingers-couples-pool-party/2026-05-18/
LOCATION:Wet on Wellington\, 162 Wellington Street\, Collingwood\, VIC\, 3066\, Australia
ATTACH;FMTTYPE=image/jpeg:https://wetonwellington.com.au/wp-content/uploads/2025/10/Swingers-Couples-Pool-Party-1080p-2025.jpg
ORGANIZER;CN="Melbourne Swingers":MAILTO:info@melbourne-swingers.com.au
END:VEVENT
BEGIN:VEVENT
DTSTART;TZID=Australia/Melbourne:20260519T183000
DTEND;TZID=Australia/Melbourne:20260519T183000
DTSTAMP:20260426T134829
CREATED:20251017T125629Z
LAST-MODIFIED:20260310T000622Z
UID:10001728-1779215400-1779215400@wetonwellington.com.au
SUMMARY:Furocious Bear Night
DESCRIPTION:A night for Bears\, Cubs\, Otters & Pandas…. And those who love them! Cum on in and wet your fur!
URL:https://wetonwellington.com.au/event/furocious-bear-night-2/2026-05-19/
LOCATION:Wet on Wellington\, 162 Wellington Street\, Collingwood\, VIC\, 3066\, Australia
ATTACH;FMTTYPE=image/jpeg:https://wetonwellington.com.au/wp-content/uploads/2025/10/Bear-Night-1080p-2026.jpg
END:VEVENT
BEGIN:VEVENT
DTSTART;TZID=Australia/Melbourne:20260520T183000
DTEND;TZID=Australia/Melbourne:20260520T183000
DTSTAMP:20260426T134829
CREATED:20251017T054648Z
LAST-MODIFIED:20260302T024512Z
UID:10001468-1779301800-1779301800@wetonwellington.com.au
SUMMARY:Silver Daddy Night
DESCRIPTION:A night for all our sexy DADDIES and those who love them!
URL:https://wetonwellington.com.au/event/silver-daddy-night/2026-05-20/
LOCATION:Wet on Wellington\, 162 Wellington Street\, Collingwood\, VIC\, 3066\, Australia
ATTACH;FMTTYPE=image/jpeg:https://wetonwellington.com.au/wp-content/uploads/2025/10/Silver-1080p-2026-.jpg
END:VEVENT
BEGIN:VEVENT
DTSTART;TZID=Australia/Melbourne:20260521T183000
DTEND;TZID=Australia/Melbourne:20260522T013000
DTSTAMP:20260426T134829
CREATED:20251017T054402Z
LAST-MODIFIED:20260310T010640Z
UID:10002443-1779388200-1779413400@wetonwellington.com.au
SUMMARY:Queer AF
DESCRIPTION:A night for all our Gay\, Bi\, Trans\, Crossdressers and anyone part of our LGBTQI+ community – Whoever you are\, whatever you’re into\, YOU ARE WELCOME!
URL:https://wetonwellington.com.au/event/queer-af/2026-05-21/
LOCATION:Wet on Wellington\, 162 Wellington Street\, Collingwood\, VIC\, 3066\, Australia
ATTACH;FMTTYPE=image/jpeg:https://wetonwellington.com.au/wp-content/uploads/2025/10/Queer-AF-1080p-2026.jpg
END:VEVENT
BEGIN:VEVENT
DTSTART;TZID=Australia/Melbourne:20260522T200000
DTEND;TZID=Australia/Melbourne:20260522T230000
DTSTAMP:20260426T134829
CREATED:20251015T075300Z
LAST-MODIFIED:20251217T041551Z
UID:10000946-1779480000-1779490800@wetonwellington.com.au
SUMMARY:Happy Hour
DESCRIPTION:Kick off the weekend the RIGHT way at Wet on Wellington with Happy Hour every Friday from 8pm till 11pm! \nEnjoy a sauna with a $5 beer or even hang out in the spa with a $6 vodka\, lime and soda! Whatever your poison\, we have it here for Happy Hour! \n$5 OFF SELECT BEER & WINE AND $6 OFF SELECT SPIRITS!! \nDon’t forget we’re also open 24hrs till Monday 2am!!
URL:https://wetonwellington.com.au/event/happy-hour/2026-05-22/
LOCATION:Wet on Wellington\, 162 Wellington Street\, Collingwood\, VIC\, 3066\, Australia
ATTACH;FMTTYPE=image/png:https://wetonwellington.com.au/wp-content/uploads/2025/10/Red-Cream-Modern-Happy-Hour-Instagram-Story-1920-x-1080-px-2.png
END:VEVENT
END:VCALENDAR