BEGIN:VCALENDAR
VERSION:2.0
PRODID:-//Wet on Wellington - ECPv6.15.20//NONSGML v1.0//EN
CALSCALE:GREGORIAN
METHOD:PUBLISH
X-WR-CALNAME:Wet on Wellington
X-ORIGINAL-URL:https://wetonwellington.com.au
X-WR-CALDESC:Events for Wet on Wellington
REFRESH-INTERVAL;VALUE=DURATION:PT1H
X-Robots-Tag:noindex
X-PUBLISHED-TTL:PT1H
BEGIN:VTIMEZONE
TZID:Australia/Melbourne
BEGIN:STANDARD
TZOFFSETFROM:+1100
TZOFFSETTO:+1000
TZNAME:AEST
DTSTART:20250405T160000
END:STANDARD
BEGIN:DAYLIGHT
TZOFFSETFROM:+1000
TZOFFSETTO:+1100
TZNAME:AEDT
DTSTART:20251004T160000
END:DAYLIGHT
BEGIN:STANDARD
TZOFFSETFROM:+1100
TZOFFSETTO:+1000
TZNAME:AEST
DTSTART:20260404T160000
END:STANDARD
BEGIN:DAYLIGHT
TZOFFSETFROM:+1000
TZOFFSETTO:+1100
TZNAME:AEDT
DTSTART:20261003T160000
END:DAYLIGHT
BEGIN:STANDARD
TZOFFSETFROM:+1100
TZOFFSETTO:+1000
TZNAME:AEST
DTSTART:20270403T160000
END:STANDARD
BEGIN:DAYLIGHT
TZOFFSETFROM:+1000
TZOFFSETTO:+1100
TZNAME:AEDT
DTSTART:20271002T160000
END:DAYLIGHT
END:VTIMEZONE
BEGIN:VEVENT
DTSTART;TZID=Australia/Melbourne:20260807T200000
DTEND;TZID=Australia/Melbourne:20260807T230000
DTSTAMP:20260426T121804
CREATED:20251015T075300Z
LAST-MODIFIED:20251217T041551Z
UID:10000957-1786132800-1786143600@wetonwellington.com.au
SUMMARY:Happy Hour
DESCRIPTION:Kick off the weekend the RIGHT way at Wet on Wellington with Happy Hour every Friday from 8pm till 11pm! \nEnjoy a sauna with a $5 beer or even hang out in the spa with a $6 vodka\, lime and soda! Whatever your poison\, we have it here for Happy Hour! \n$5 OFF SELECT BEER & WINE AND $6 OFF SELECT SPIRITS!! \nDon’t forget we’re also open 24hrs till Monday 2am!!
URL:https://wetonwellington.com.au/event/happy-hour/2026-08-07/
LOCATION:Wet on Wellington\, 162 Wellington Street\, Collingwood\, VIC\, 3066\, Australia
ATTACH;FMTTYPE=image/png:https://wetonwellington.com.au/wp-content/uploads/2025/10/Red-Cream-Modern-Happy-Hour-Instagram-Story-1920-x-1080-px-2.png
END:VEVENT
BEGIN:VEVENT
DTSTART;TZID=Australia/Melbourne:20260810T183000
DTEND;TZID=Australia/Melbourne:20260811T020000
DTSTAMP:20260426T121804
CREATED:20251017T033530Z
LAST-MODIFIED:20260310T011442Z
UID:10001986-1786386600-1786413600@wetonwellington.com.au
SUMMARY:Xposed Nude Night
DESCRIPTION:Strip down and strut your stuff during Nude Night! Time to get those c*ck’s out and those bums up! Let it all hang out and get ‘xposed’ in a non-judgemental space. \nCompulsory nudity venue wide! \n*$35 Entry on a Public Holiday.
URL:https://wetonwellington.com.au/event/xposed-nude-night/2026-08-10/
LOCATION:Wet on Wellington\, 162 Wellington Street\, Collingwood\, VIC\, 3066\, Australia
ATTACH;FMTTYPE=image/jpeg:https://wetonwellington.com.au/wp-content/uploads/2025/10/Xposed-Nude-1080P-2026.jpg
END:VEVENT
BEGIN:VEVENT
DTSTART;TZID=Australia/Melbourne:20260811T183000
DTEND;TZID=Australia/Melbourne:20260811T183000
DTSTAMP:20260426T121804
CREATED:20251017T125629Z
LAST-MODIFIED:20260310T000622Z
UID:10001740-1786473000-1786473000@wetonwellington.com.au
SUMMARY:Furocious Bear Night
DESCRIPTION:A night for Bears\, Cubs\, Otters & Pandas…. And those who love them! Cum on in and wet your fur!
URL:https://wetonwellington.com.au/event/furocious-bear-night-2/2026-08-11/
LOCATION:Wet on Wellington\, 162 Wellington Street\, Collingwood\, VIC\, 3066\, Australia
ATTACH;FMTTYPE=image/jpeg:https://wetonwellington.com.au/wp-content/uploads/2025/10/Bear-Night-1080p-2026.jpg
END:VEVENT
BEGIN:VEVENT
DTSTART;TZID=Australia/Melbourne:20260812T183000
DTEND;TZID=Australia/Melbourne:20260812T183000
DTSTAMP:20260426T121804
CREATED:20251017T054648Z
LAST-MODIFIED:20260302T024512Z
UID:10001480-1786559400-1786559400@wetonwellington.com.au
SUMMARY:Silver Daddy Night
DESCRIPTION:A night for all our sexy DADDIES and those who love them!
URL:https://wetonwellington.com.au/event/silver-daddy-night/2026-08-12/
LOCATION:Wet on Wellington\, 162 Wellington Street\, Collingwood\, VIC\, 3066\, Australia
ATTACH;FMTTYPE=image/jpeg:https://wetonwellington.com.au/wp-content/uploads/2025/10/Silver-1080p-2026-.jpg
END:VEVENT
BEGIN:VEVENT
DTSTART;TZID=Australia/Melbourne:20260813T183000
DTEND;TZID=Australia/Melbourne:20260814T013000
DTSTAMP:20260426T121804
CREATED:20251017T054402Z
LAST-MODIFIED:20260310T010640Z
UID:10002455-1786645800-1786671000@wetonwellington.com.au
SUMMARY:Queer AF
DESCRIPTION:A night for all our Gay\, Bi\, Trans\, Crossdressers and anyone part of our LGBTQI+ community – Whoever you are\, whatever you’re into\, YOU ARE WELCOME!
URL:https://wetonwellington.com.au/event/queer-af/2026-08-13/
LOCATION:Wet on Wellington\, 162 Wellington Street\, Collingwood\, VIC\, 3066\, Australia
ATTACH;FMTTYPE=image/jpeg:https://wetonwellington.com.au/wp-content/uploads/2025/10/Queer-AF-1080p-2026.jpg
END:VEVENT
BEGIN:VEVENT
DTSTART;TZID=Australia/Melbourne:20260814T200000
DTEND;TZID=Australia/Melbourne:20260814T230000
DTSTAMP:20260426T121804
CREATED:20251015T075300Z
LAST-MODIFIED:20251217T041551Z
UID:10000958-1786737600-1786748400@wetonwellington.com.au
SUMMARY:Happy Hour
DESCRIPTION:Kick off the weekend the RIGHT way at Wet on Wellington with Happy Hour every Friday from 8pm till 11pm! \nEnjoy a sauna with a $5 beer or even hang out in the spa with a $6 vodka\, lime and soda! Whatever your poison\, we have it here for Happy Hour! \n$5 OFF SELECT BEER & WINE AND $6 OFF SELECT SPIRITS!! \nDon’t forget we’re also open 24hrs till Monday 2am!!
URL:https://wetonwellington.com.au/event/happy-hour/2026-08-14/
LOCATION:Wet on Wellington\, 162 Wellington Street\, Collingwood\, VIC\, 3066\, Australia
ATTACH;FMTTYPE=image/png:https://wetonwellington.com.au/wp-content/uploads/2025/10/Red-Cream-Modern-Happy-Hour-Instagram-Story-1920-x-1080-px-2.png
END:VEVENT
BEGIN:VEVENT
DTSTART;TZID=Australia/Melbourne:20260817T190000
DTEND;TZID=Australia/Melbourne:20260818T020000
DTSTAMP:20260426T121804
CREATED:20251015T074736Z
LAST-MODIFIED:20251017T054344Z
UID:10000605-1786993200-1787018400@wetonwellington.com.au
SUMMARY:Swingers Couples Pool Party
DESCRIPTION:$100 COUPLES\, $45 LADIES\, $350 SINGLE MEN* | Melbourne’ s most luxurious and erotic Men’s Club opens its doors for Swingers to engage in the sensuality of a naked and uninhibited Pool Party. Guests can indulge in all of the erotic and luxurious facilities that Wet On Wellington is famous for. \n*Single Men are required to pre-book by calling the venue on (03) 9419 2210. \nPlease note: Couples that arrive together must also depart together as a couple. Females can not depart without their male partner. Men are NOT allowed to be upstairs without a female partner unless entered as a Single Male.
URL:https://wetonwellington.com.au/event/swingers-couples-pool-party/2026-08-17/
LOCATION:Wet on Wellington\, 162 Wellington Street\, Collingwood\, VIC\, 3066\, Australia
ATTACH;FMTTYPE=image/jpeg:https://wetonwellington.com.au/wp-content/uploads/2025/10/Swingers-Couples-Pool-Party-1080p-2025.jpg
ORGANIZER;CN="Melbourne Swingers":MAILTO:info@melbourne-swingers.com.au
END:VEVENT
BEGIN:VEVENT
DTSTART;TZID=Australia/Melbourne:20260818T183000
DTEND;TZID=Australia/Melbourne:20260818T183000
DTSTAMP:20260426T121804
CREATED:20251017T125629Z
LAST-MODIFIED:20260310T000622Z
UID:10001741-1787077800-1787077800@wetonwellington.com.au
SUMMARY:Furocious Bear Night
DESCRIPTION:A night for Bears\, Cubs\, Otters & Pandas…. And those who love them! Cum on in and wet your fur!
URL:https://wetonwellington.com.au/event/furocious-bear-night-2/2026-08-18/
LOCATION:Wet on Wellington\, 162 Wellington Street\, Collingwood\, VIC\, 3066\, Australia
ATTACH;FMTTYPE=image/jpeg:https://wetonwellington.com.au/wp-content/uploads/2025/10/Bear-Night-1080p-2026.jpg
END:VEVENT
BEGIN:VEVENT
DTSTART;TZID=Australia/Melbourne:20260819T183000
DTEND;TZID=Australia/Melbourne:20260819T183000
DTSTAMP:20260426T121804
CREATED:20251017T054648Z
LAST-MODIFIED:20260302T024512Z
UID:10001481-1787164200-1787164200@wetonwellington.com.au
SUMMARY:Silver Daddy Night
DESCRIPTION:A night for all our sexy DADDIES and those who love them!
URL:https://wetonwellington.com.au/event/silver-daddy-night/2026-08-19/
LOCATION:Wet on Wellington\, 162 Wellington Street\, Collingwood\, VIC\, 3066\, Australia
ATTACH;FMTTYPE=image/jpeg:https://wetonwellington.com.au/wp-content/uploads/2025/10/Silver-1080p-2026-.jpg
END:VEVENT
BEGIN:VEVENT
DTSTART;TZID=Australia/Melbourne:20260820T183000
DTEND;TZID=Australia/Melbourne:20260821T013000
DTSTAMP:20260426T121804
CREATED:20251017T054402Z
LAST-MODIFIED:20260310T010640Z
UID:10002456-1787250600-1787275800@wetonwellington.com.au
SUMMARY:Queer AF
DESCRIPTION:A night for all our Gay\, Bi\, Trans\, Crossdressers and anyone part of our LGBTQI+ community – Whoever you are\, whatever you’re into\, YOU ARE WELCOME!
URL:https://wetonwellington.com.au/event/queer-af/2026-08-20/
LOCATION:Wet on Wellington\, 162 Wellington Street\, Collingwood\, VIC\, 3066\, Australia
ATTACH;FMTTYPE=image/jpeg:https://wetonwellington.com.au/wp-content/uploads/2025/10/Queer-AF-1080p-2026.jpg
END:VEVENT
BEGIN:VEVENT
DTSTART;TZID=Australia/Melbourne:20260821T200000
DTEND;TZID=Australia/Melbourne:20260821T230000
DTSTAMP:20260426T121804
CREATED:20251015T075300Z
LAST-MODIFIED:20251217T041551Z
UID:10000959-1787342400-1787353200@wetonwellington.com.au
SUMMARY:Happy Hour
DESCRIPTION:Kick off the weekend the RIGHT way at Wet on Wellington with Happy Hour every Friday from 8pm till 11pm! \nEnjoy a sauna with a $5 beer or even hang out in the spa with a $6 vodka\, lime and soda! Whatever your poison\, we have it here for Happy Hour! \n$5 OFF SELECT BEER & WINE AND $6 OFF SELECT SPIRITS!! \nDon’t forget we’re also open 24hrs till Monday 2am!!
URL:https://wetonwellington.com.au/event/happy-hour/2026-08-21/
LOCATION:Wet on Wellington\, 162 Wellington Street\, Collingwood\, VIC\, 3066\, Australia
ATTACH;FMTTYPE=image/png:https://wetonwellington.com.au/wp-content/uploads/2025/10/Red-Cream-Modern-Happy-Hour-Instagram-Story-1920-x-1080-px-2.png
END:VEVENT
BEGIN:VEVENT
DTSTART;TZID=Australia/Melbourne:20260824T183000
DTEND;TZID=Australia/Melbourne:20260825T020000
DTSTAMP:20260426T121804
CREATED:20251017T033530Z
LAST-MODIFIED:20260310T011442Z
UID:10001987-1787596200-1787623200@wetonwellington.com.au
SUMMARY:Xposed Nude Night
DESCRIPTION:Strip down and strut your stuff during Nude Night! Time to get those c*ck’s out and those bums up! Let it all hang out and get ‘xposed’ in a non-judgemental space. \nCompulsory nudity venue wide! \n*$35 Entry on a Public Holiday.
URL:https://wetonwellington.com.au/event/xposed-nude-night/2026-08-24/
LOCATION:Wet on Wellington\, 162 Wellington Street\, Collingwood\, VIC\, 3066\, Australia
ATTACH;FMTTYPE=image/jpeg:https://wetonwellington.com.au/wp-content/uploads/2025/10/Xposed-Nude-1080P-2026.jpg
END:VEVENT
BEGIN:VEVENT
DTSTART;TZID=Australia/Melbourne:20260825T183000
DTEND;TZID=Australia/Melbourne:20260825T183000
DTSTAMP:20260426T121804
CREATED:20251017T125629Z
LAST-MODIFIED:20260310T000622Z
UID:10001742-1787682600-1787682600@wetonwellington.com.au
SUMMARY:Furocious Bear Night
DESCRIPTION:A night for Bears\, Cubs\, Otters & Pandas…. And those who love them! Cum on in and wet your fur!
URL:https://wetonwellington.com.au/event/furocious-bear-night-2/2026-08-25/
LOCATION:Wet on Wellington\, 162 Wellington Street\, Collingwood\, VIC\, 3066\, Australia
ATTACH;FMTTYPE=image/jpeg:https://wetonwellington.com.au/wp-content/uploads/2025/10/Bear-Night-1080p-2026.jpg
END:VEVENT
BEGIN:VEVENT
DTSTART;TZID=Australia/Melbourne:20260826T183000
DTEND;TZID=Australia/Melbourne:20260826T183000
DTSTAMP:20260426T121804
CREATED:20251017T054648Z
LAST-MODIFIED:20260302T024512Z
UID:10001482-1787769000-1787769000@wetonwellington.com.au
SUMMARY:Silver Daddy Night
DESCRIPTION:A night for all our sexy DADDIES and those who love them!
URL:https://wetonwellington.com.au/event/silver-daddy-night/2026-08-26/
LOCATION:Wet on Wellington\, 162 Wellington Street\, Collingwood\, VIC\, 3066\, Australia
ATTACH;FMTTYPE=image/jpeg:https://wetonwellington.com.au/wp-content/uploads/2025/10/Silver-1080p-2026-.jpg
END:VEVENT
BEGIN:VEVENT
DTSTART;TZID=Australia/Melbourne:20260827T183000
DTEND;TZID=Australia/Melbourne:20260828T013000
DTSTAMP:20260426T121804
CREATED:20251017T054402Z
LAST-MODIFIED:20260310T010640Z
UID:10002457-1787855400-1787880600@wetonwellington.com.au
SUMMARY:Queer AF
DESCRIPTION:A night for all our Gay\, Bi\, Trans\, Crossdressers and anyone part of our LGBTQI+ community – Whoever you are\, whatever you’re into\, YOU ARE WELCOME!
URL:https://wetonwellington.com.au/event/queer-af/2026-08-27/
LOCATION:Wet on Wellington\, 162 Wellington Street\, Collingwood\, VIC\, 3066\, Australia
ATTACH;FMTTYPE=image/jpeg:https://wetonwellington.com.au/wp-content/uploads/2025/10/Queer-AF-1080p-2026.jpg
END:VEVENT
BEGIN:VEVENT
DTSTART;TZID=Australia/Melbourne:20260828T200000
DTEND;TZID=Australia/Melbourne:20260828T230000
DTSTAMP:20260426T121804
CREATED:20251015T075300Z
LAST-MODIFIED:20251217T041551Z
UID:10000960-1787947200-1787958000@wetonwellington.com.au
SUMMARY:Happy Hour
DESCRIPTION:Kick off the weekend the RIGHT way at Wet on Wellington with Happy Hour every Friday from 8pm till 11pm! \nEnjoy a sauna with a $5 beer or even hang out in the spa with a $6 vodka\, lime and soda! Whatever your poison\, we have it here for Happy Hour! \n$5 OFF SELECT BEER & WINE AND $6 OFF SELECT SPIRITS!! \nDon’t forget we’re also open 24hrs till Monday 2am!!
URL:https://wetonwellington.com.au/event/happy-hour/2026-08-28/
LOCATION:Wet on Wellington\, 162 Wellington Street\, Collingwood\, VIC\, 3066\, Australia
ATTACH;FMTTYPE=image/png:https://wetonwellington.com.au/wp-content/uploads/2025/10/Red-Cream-Modern-Happy-Hour-Instagram-Story-1920-x-1080-px-2.png
END:VEVENT
BEGIN:VEVENT
DTSTART;TZID=Australia/Melbourne:20260831T190000
DTEND;TZID=Australia/Melbourne:20260901T010000
DTSTAMP:20260426T121804
CREATED:20251217T040841Z
LAST-MODIFIED:20260309T032031Z
UID:10002247-1788202800-1788224400@wetonwellington.com.au
SUMMARY:Lady Like
DESCRIPTION:💋 For Ladies and Theybies!\n🥰 A Lesbian\, Queer\, Trans-femme\, AFAB & Sapphic Event!\n🕖 Every 5th Monday of the month! \n$30 ONLINE // $35 AT THE DOOR \nTICKETS: https://melbournesaunas.com.au/ticket/ladylike \n  \nStay tuned to the Lady Like Facebook and Instagram (@ladylike.events) pages for when tickets go on sale!
URL:https://wetonwellington.com.au/event/lady-like/2026-08-31/
LOCATION:Wet on Wellington\, 162 Wellington Street\, Collingwood\, VIC\, 3066\, Australia
ATTACH;FMTTYPE=image/jpeg:https://wetonwellington.com.au/wp-content/uploads/2025/12/Lady-Like-2024-1080p-NO-TEXT.jpg
END:VEVENT
BEGIN:VEVENT
DTSTART;TZID=Australia/Melbourne:20260901T183000
DTEND;TZID=Australia/Melbourne:20260901T183000
DTSTAMP:20260426T121804
CREATED:20251017T125629Z
LAST-MODIFIED:20260310T000622Z
UID:10001743-1788287400-1788287400@wetonwellington.com.au
SUMMARY:Furocious Bear Night
DESCRIPTION:A night for Bears\, Cubs\, Otters & Pandas…. And those who love them! Cum on in and wet your fur!
URL:https://wetonwellington.com.au/event/furocious-bear-night-2/2026-09-01/
LOCATION:Wet on Wellington\, 162 Wellington Street\, Collingwood\, VIC\, 3066\, Australia
ATTACH;FMTTYPE=image/jpeg:https://wetonwellington.com.au/wp-content/uploads/2025/10/Bear-Night-1080p-2026.jpg
END:VEVENT
BEGIN:VEVENT
DTSTART;TZID=Australia/Melbourne:20260902T183000
DTEND;TZID=Australia/Melbourne:20260902T183000
DTSTAMP:20260426T121804
CREATED:20251017T054648Z
LAST-MODIFIED:20260302T024512Z
UID:10001483-1788373800-1788373800@wetonwellington.com.au
SUMMARY:Silver Daddy Night
DESCRIPTION:A night for all our sexy DADDIES and those who love them!
URL:https://wetonwellington.com.au/event/silver-daddy-night/2026-09-02/
LOCATION:Wet on Wellington\, 162 Wellington Street\, Collingwood\, VIC\, 3066\, Australia
ATTACH;FMTTYPE=image/jpeg:https://wetonwellington.com.au/wp-content/uploads/2025/10/Silver-1080p-2026-.jpg
END:VEVENT
BEGIN:VEVENT
DTSTART;TZID=Australia/Melbourne:20260903T183000
DTEND;TZID=Australia/Melbourne:20260904T013000
DTSTAMP:20260426T121804
CREATED:20251017T054402Z
LAST-MODIFIED:20260310T010640Z
UID:10002458-1788460200-1788485400@wetonwellington.com.au
SUMMARY:Queer AF
DESCRIPTION:A night for all our Gay\, Bi\, Trans\, Crossdressers and anyone part of our LGBTQI+ community – Whoever you are\, whatever you’re into\, YOU ARE WELCOME!
URL:https://wetonwellington.com.au/event/queer-af/2026-09-03/
LOCATION:Wet on Wellington\, 162 Wellington Street\, Collingwood\, VIC\, 3066\, Australia
ATTACH;FMTTYPE=image/jpeg:https://wetonwellington.com.au/wp-content/uploads/2025/10/Queer-AF-1080p-2026.jpg
END:VEVENT
BEGIN:VEVENT
DTSTART;TZID=Australia/Melbourne:20260904T200000
DTEND;TZID=Australia/Melbourne:20260904T230000
DTSTAMP:20260426T121804
CREATED:20251015T075300Z
LAST-MODIFIED:20251217T041551Z
UID:10000961-1788552000-1788562800@wetonwellington.com.au
SUMMARY:Happy Hour
DESCRIPTION:Kick off the weekend the RIGHT way at Wet on Wellington with Happy Hour every Friday from 8pm till 11pm! \nEnjoy a sauna with a $5 beer or even hang out in the spa with a $6 vodka\, lime and soda! Whatever your poison\, we have it here for Happy Hour! \n$5 OFF SELECT BEER & WINE AND $6 OFF SELECT SPIRITS!! \nDon’t forget we’re also open 24hrs till Monday 2am!!
URL:https://wetonwellington.com.au/event/happy-hour/2026-09-04/
LOCATION:Wet on Wellington\, 162 Wellington Street\, Collingwood\, VIC\, 3066\, Australia
ATTACH;FMTTYPE=image/png:https://wetonwellington.com.au/wp-content/uploads/2025/10/Red-Cream-Modern-Happy-Hour-Instagram-Story-1920-x-1080-px-2.png
END:VEVENT
BEGIN:VEVENT
DTSTART;TZID=Australia/Melbourne:20260907T183000
DTEND;TZID=Australia/Melbourne:20260907T183000
DTSTAMP:20260426T121804
CREATED:20251015T074052Z
LAST-MODIFIED:20260414T021957Z
UID:10002193-1788805800-1788805800@wetonwellington.com.au
SUMMARY:Under 30s Night
DESCRIPTION:It’s time to party it up! \nThe first Monday of every month we dedicate to all boys 30 years old and younger! \nID required at entry. \nVCAT EXEMPTION: #H112/2023
URL:https://wetonwellington.com.au/event/under-30s-night/2026-09-07/
LOCATION:Wet on Wellington\, 162 Wellington Street\, Collingwood\, VIC\, 3066\, Australia
ATTACH;FMTTYPE=image/jpeg:https://wetonwellington.com.au/wp-content/uploads/2025/10/Under-30s-2024-1080p-PSD.jpg
END:VEVENT
BEGIN:VEVENT
DTSTART;TZID=Australia/Melbourne:20260908T183000
DTEND;TZID=Australia/Melbourne:20260908T183000
DTSTAMP:20260426T121804
CREATED:20251017T125629Z
LAST-MODIFIED:20260310T000622Z
UID:10001744-1788892200-1788892200@wetonwellington.com.au
SUMMARY:Furocious Bear Night
DESCRIPTION:A night for Bears\, Cubs\, Otters & Pandas…. And those who love them! Cum on in and wet your fur!
URL:https://wetonwellington.com.au/event/furocious-bear-night-2/2026-09-08/
LOCATION:Wet on Wellington\, 162 Wellington Street\, Collingwood\, VIC\, 3066\, Australia
ATTACH;FMTTYPE=image/jpeg:https://wetonwellington.com.au/wp-content/uploads/2025/10/Bear-Night-1080p-2026.jpg
END:VEVENT
BEGIN:VEVENT
DTSTART;TZID=Australia/Melbourne:20260909T183000
DTEND;TZID=Australia/Melbourne:20260909T183000
DTSTAMP:20260426T121804
CREATED:20251017T054648Z
LAST-MODIFIED:20260302T024512Z
UID:10001484-1788978600-1788978600@wetonwellington.com.au
SUMMARY:Silver Daddy Night
DESCRIPTION:A night for all our sexy DADDIES and those who love them!
URL:https://wetonwellington.com.au/event/silver-daddy-night/2026-09-09/
LOCATION:Wet on Wellington\, 162 Wellington Street\, Collingwood\, VIC\, 3066\, Australia
ATTACH;FMTTYPE=image/jpeg:https://wetonwellington.com.au/wp-content/uploads/2025/10/Silver-1080p-2026-.jpg
END:VEVENT
BEGIN:VEVENT
DTSTART;TZID=Australia/Melbourne:20260910T183000
DTEND;TZID=Australia/Melbourne:20260911T013000
DTSTAMP:20260426T121804
CREATED:20251017T054402Z
LAST-MODIFIED:20260310T010640Z
UID:10002459-1789065000-1789090200@wetonwellington.com.au
SUMMARY:Queer AF
DESCRIPTION:A night for all our Gay\, Bi\, Trans\, Crossdressers and anyone part of our LGBTQI+ community – Whoever you are\, whatever you’re into\, YOU ARE WELCOME!
URL:https://wetonwellington.com.au/event/queer-af/2026-09-10/
LOCATION:Wet on Wellington\, 162 Wellington Street\, Collingwood\, VIC\, 3066\, Australia
ATTACH;FMTTYPE=image/jpeg:https://wetonwellington.com.au/wp-content/uploads/2025/10/Queer-AF-1080p-2026.jpg
END:VEVENT
BEGIN:VEVENT
DTSTART;TZID=Australia/Melbourne:20260911T200000
DTEND;TZID=Australia/Melbourne:20260911T230000
DTSTAMP:20260426T121804
CREATED:20251015T075300Z
LAST-MODIFIED:20251217T041551Z
UID:10000962-1789156800-1789167600@wetonwellington.com.au
SUMMARY:Happy Hour
DESCRIPTION:Kick off the weekend the RIGHT way at Wet on Wellington with Happy Hour every Friday from 8pm till 11pm! \nEnjoy a sauna with a $5 beer or even hang out in the spa with a $6 vodka\, lime and soda! Whatever your poison\, we have it here for Happy Hour! \n$5 OFF SELECT BEER & WINE AND $6 OFF SELECT SPIRITS!! \nDon’t forget we’re also open 24hrs till Monday 2am!!
URL:https://wetonwellington.com.au/event/happy-hour/2026-09-11/
LOCATION:Wet on Wellington\, 162 Wellington Street\, Collingwood\, VIC\, 3066\, Australia
ATTACH;FMTTYPE=image/png:https://wetonwellington.com.au/wp-content/uploads/2025/10/Red-Cream-Modern-Happy-Hour-Instagram-Story-1920-x-1080-px-2.png
END:VEVENT
BEGIN:VEVENT
DTSTART;TZID=Australia/Melbourne:20260914T183000
DTEND;TZID=Australia/Melbourne:20260915T020000
DTSTAMP:20260426T121804
CREATED:20251017T033530Z
LAST-MODIFIED:20260310T011442Z
UID:10001988-1789410600-1789437600@wetonwellington.com.au
SUMMARY:Xposed Nude Night
DESCRIPTION:Strip down and strut your stuff during Nude Night! Time to get those c*ck’s out and those bums up! Let it all hang out and get ‘xposed’ in a non-judgemental space. \nCompulsory nudity venue wide! \n*$35 Entry on a Public Holiday.
URL:https://wetonwellington.com.au/event/xposed-nude-night/2026-09-14/
LOCATION:Wet on Wellington\, 162 Wellington Street\, Collingwood\, VIC\, 3066\, Australia
ATTACH;FMTTYPE=image/jpeg:https://wetonwellington.com.au/wp-content/uploads/2025/10/Xposed-Nude-1080P-2026.jpg
END:VEVENT
BEGIN:VEVENT
DTSTART;TZID=Australia/Melbourne:20260915T183000
DTEND;TZID=Australia/Melbourne:20260915T183000
DTSTAMP:20260426T121804
CREATED:20251017T125629Z
LAST-MODIFIED:20260310T000622Z
UID:10001745-1789497000-1789497000@wetonwellington.com.au
SUMMARY:Furocious Bear Night
DESCRIPTION:A night for Bears\, Cubs\, Otters & Pandas…. And those who love them! Cum on in and wet your fur!
URL:https://wetonwellington.com.au/event/furocious-bear-night-2/2026-09-15/
LOCATION:Wet on Wellington\, 162 Wellington Street\, Collingwood\, VIC\, 3066\, Australia
ATTACH;FMTTYPE=image/jpeg:https://wetonwellington.com.au/wp-content/uploads/2025/10/Bear-Night-1080p-2026.jpg
END:VEVENT
BEGIN:VEVENT
DTSTART;TZID=Australia/Melbourne:20260916T183000
DTEND;TZID=Australia/Melbourne:20260916T183000
DTSTAMP:20260426T121804
CREATED:20251017T054648Z
LAST-MODIFIED:20260302T024512Z
UID:10001485-1789583400-1789583400@wetonwellington.com.au
SUMMARY:Silver Daddy Night
DESCRIPTION:A night for all our sexy DADDIES and those who love them!
URL:https://wetonwellington.com.au/event/silver-daddy-night/2026-09-16/
LOCATION:Wet on Wellington\, 162 Wellington Street\, Collingwood\, VIC\, 3066\, Australia
ATTACH;FMTTYPE=image/jpeg:https://wetonwellington.com.au/wp-content/uploads/2025/10/Silver-1080p-2026-.jpg
END:VEVENT
BEGIN:VEVENT
DTSTART;TZID=Australia/Melbourne:20260917T183000
DTEND;TZID=Australia/Melbourne:20260918T013000
DTSTAMP:20260426T121804
CREATED:20251017T054402Z
LAST-MODIFIED:20260310T010640Z
UID:10002460-1789669800-1789695000@wetonwellington.com.au
SUMMARY:Queer AF
DESCRIPTION:A night for all our Gay\, Bi\, Trans\, Crossdressers and anyone part of our LGBTQI+ community – Whoever you are\, whatever you’re into\, YOU ARE WELCOME!
URL:https://wetonwellington.com.au/event/queer-af/2026-09-17/
LOCATION:Wet on Wellington\, 162 Wellington Street\, Collingwood\, VIC\, 3066\, Australia
ATTACH;FMTTYPE=image/jpeg:https://wetonwellington.com.au/wp-content/uploads/2025/10/Queer-AF-1080p-2026.jpg
END:VEVENT
END:VCALENDAR