BEGIN:VCALENDAR
VERSION:2.0
PRODID:-//Wet on Wellington - ECPv6.15.20//NONSGML v1.0//EN
CALSCALE:GREGORIAN
METHOD:PUBLISH
X-WR-CALNAME:Wet on Wellington
X-ORIGINAL-URL:https://wetonwellington.com.au
X-WR-CALDESC:Events for Wet on Wellington
REFRESH-INTERVAL;VALUE=DURATION:PT1H
X-Robots-Tag:noindex
X-PUBLISHED-TTL:PT1H
BEGIN:VTIMEZONE
TZID:Australia/Melbourne
BEGIN:STANDARD
TZOFFSETFROM:+1100
TZOFFSETTO:+1000
TZNAME:AEST
DTSTART:20250405T160000
END:STANDARD
BEGIN:DAYLIGHT
TZOFFSETFROM:+1000
TZOFFSETTO:+1100
TZNAME:AEDT
DTSTART:20251004T160000
END:DAYLIGHT
BEGIN:STANDARD
TZOFFSETFROM:+1100
TZOFFSETTO:+1000
TZNAME:AEST
DTSTART:20260404T160000
END:STANDARD
BEGIN:DAYLIGHT
TZOFFSETFROM:+1000
TZOFFSETTO:+1100
TZNAME:AEDT
DTSTART:20261003T160000
END:DAYLIGHT
BEGIN:STANDARD
TZOFFSETFROM:+1100
TZOFFSETTO:+1000
TZNAME:AEST
DTSTART:20270403T160000
END:STANDARD
BEGIN:DAYLIGHT
TZOFFSETFROM:+1000
TZOFFSETTO:+1100
TZNAME:AEDT
DTSTART:20271002T160000
END:DAYLIGHT
END:VTIMEZONE
BEGIN:VEVENT
DTSTART;TZID=Australia/Melbourne:20261110T183000
DTEND;TZID=Australia/Melbourne:20261110T183000
DTSTAMP:20260426T134602
CREATED:20251017T125629Z
LAST-MODIFIED:20260310T000622Z
UID:10001753-1794335400-1794335400@wetonwellington.com.au
SUMMARY:Furocious Bear Night
DESCRIPTION:A night for Bears\, Cubs\, Otters & Pandas…. And those who love them! Cum on in and wet your fur!
URL:https://wetonwellington.com.au/event/furocious-bear-night-2/2026-11-10/
LOCATION:Wet on Wellington\, 162 Wellington Street\, Collingwood\, VIC\, 3066\, Australia
ATTACH;FMTTYPE=image/jpeg:https://wetonwellington.com.au/wp-content/uploads/2025/10/Bear-Night-1080p-2026.jpg
END:VEVENT
BEGIN:VEVENT
DTSTART;TZID=Australia/Melbourne:20261111T183000
DTEND;TZID=Australia/Melbourne:20261111T183000
DTSTAMP:20260426T134602
CREATED:20251017T054648Z
LAST-MODIFIED:20260302T024512Z
UID:10001493-1794421800-1794421800@wetonwellington.com.au
SUMMARY:Silver Daddy Night
DESCRIPTION:A night for all our sexy DADDIES and those who love them!
URL:https://wetonwellington.com.au/event/silver-daddy-night/2026-11-11/
LOCATION:Wet on Wellington\, 162 Wellington Street\, Collingwood\, VIC\, 3066\, Australia
ATTACH;FMTTYPE=image/jpeg:https://wetonwellington.com.au/wp-content/uploads/2025/10/Silver-1080p-2026-.jpg
END:VEVENT
BEGIN:VEVENT
DTSTART;TZID=Australia/Melbourne:20261112T183000
DTEND;TZID=Australia/Melbourne:20261113T013000
DTSTAMP:20260426T134602
CREATED:20251017T054402Z
LAST-MODIFIED:20260310T010640Z
UID:10002468-1794508200-1794533400@wetonwellington.com.au
SUMMARY:Queer AF
DESCRIPTION:A night for all our Gay\, Bi\, Trans\, Crossdressers and anyone part of our LGBTQI+ community – Whoever you are\, whatever you’re into\, YOU ARE WELCOME!
URL:https://wetonwellington.com.au/event/queer-af/2026-11-12/
LOCATION:Wet on Wellington\, 162 Wellington Street\, Collingwood\, VIC\, 3066\, Australia
ATTACH;FMTTYPE=image/jpeg:https://wetonwellington.com.au/wp-content/uploads/2025/10/Queer-AF-1080p-2026.jpg
END:VEVENT
BEGIN:VEVENT
DTSTART;TZID=Australia/Melbourne:20261113T200000
DTEND;TZID=Australia/Melbourne:20261113T230000
DTSTAMP:20260426T134602
CREATED:20251015T075300Z
LAST-MODIFIED:20251217T041551Z
UID:10000971-1794600000-1794610800@wetonwellington.com.au
SUMMARY:Happy Hour
DESCRIPTION:Kick off the weekend the RIGHT way at Wet on Wellington with Happy Hour every Friday from 8pm till 11pm! \nEnjoy a sauna with a $5 beer or even hang out in the spa with a $6 vodka\, lime and soda! Whatever your poison\, we have it here for Happy Hour! \n$5 OFF SELECT BEER & WINE AND $6 OFF SELECT SPIRITS!! \nDon’t forget we’re also open 24hrs till Monday 2am!!
URL:https://wetonwellington.com.au/event/happy-hour/2026-11-13/
LOCATION:Wet on Wellington\, 162 Wellington Street\, Collingwood\, VIC\, 3066\, Australia
ATTACH;FMTTYPE=image/png:https://wetonwellington.com.au/wp-content/uploads/2025/10/Red-Cream-Modern-Happy-Hour-Instagram-Story-1920-x-1080-px-2.png
END:VEVENT
BEGIN:VEVENT
DTSTART;TZID=Australia/Melbourne:20261116T190000
DTEND;TZID=Australia/Melbourne:20261117T020000
DTSTAMP:20260426T134602
CREATED:20251015T074736Z
LAST-MODIFIED:20251017T054344Z
UID:10000608-1794855600-1794880800@wetonwellington.com.au
SUMMARY:Swingers Couples Pool Party
DESCRIPTION:$100 COUPLES\, $45 LADIES\, $350 SINGLE MEN* | Melbourne’ s most luxurious and erotic Men’s Club opens its doors for Swingers to engage in the sensuality of a naked and uninhibited Pool Party. Guests can indulge in all of the erotic and luxurious facilities that Wet On Wellington is famous for. \n*Single Men are required to pre-book by calling the venue on (03) 9419 2210. \nPlease note: Couples that arrive together must also depart together as a couple. Females can not depart without their male partner. Men are NOT allowed to be upstairs without a female partner unless entered as a Single Male.
URL:https://wetonwellington.com.au/event/swingers-couples-pool-party/2026-11-16/
LOCATION:Wet on Wellington\, 162 Wellington Street\, Collingwood\, VIC\, 3066\, Australia
ATTACH;FMTTYPE=image/jpeg:https://wetonwellington.com.au/wp-content/uploads/2025/10/Swingers-Couples-Pool-Party-1080p-2025.jpg
ORGANIZER;CN="Melbourne Swingers":MAILTO:info@melbourne-swingers.com.au
END:VEVENT
BEGIN:VEVENT
DTSTART;TZID=Australia/Melbourne:20261117T183000
DTEND;TZID=Australia/Melbourne:20261117T183000
DTSTAMP:20260426T134602
CREATED:20251017T125629Z
LAST-MODIFIED:20260310T000622Z
UID:10001754-1794940200-1794940200@wetonwellington.com.au
SUMMARY:Furocious Bear Night
DESCRIPTION:A night for Bears\, Cubs\, Otters & Pandas…. And those who love them! Cum on in and wet your fur!
URL:https://wetonwellington.com.au/event/furocious-bear-night-2/2026-11-17/
LOCATION:Wet on Wellington\, 162 Wellington Street\, Collingwood\, VIC\, 3066\, Australia
ATTACH;FMTTYPE=image/jpeg:https://wetonwellington.com.au/wp-content/uploads/2025/10/Bear-Night-1080p-2026.jpg
END:VEVENT
BEGIN:VEVENT
DTSTART;TZID=Australia/Melbourne:20261118T183000
DTEND;TZID=Australia/Melbourne:20261118T183000
DTSTAMP:20260426T134602
CREATED:20251017T054648Z
LAST-MODIFIED:20260302T024512Z
UID:10001494-1795026600-1795026600@wetonwellington.com.au
SUMMARY:Silver Daddy Night
DESCRIPTION:A night for all our sexy DADDIES and those who love them!
URL:https://wetonwellington.com.au/event/silver-daddy-night/2026-11-18/
LOCATION:Wet on Wellington\, 162 Wellington Street\, Collingwood\, VIC\, 3066\, Australia
ATTACH;FMTTYPE=image/jpeg:https://wetonwellington.com.au/wp-content/uploads/2025/10/Silver-1080p-2026-.jpg
END:VEVENT
BEGIN:VEVENT
DTSTART;TZID=Australia/Melbourne:20261119T183000
DTEND;TZID=Australia/Melbourne:20261120T013000
DTSTAMP:20260426T134602
CREATED:20251017T054402Z
LAST-MODIFIED:20260310T010640Z
UID:10002469-1795113000-1795138200@wetonwellington.com.au
SUMMARY:Queer AF
DESCRIPTION:A night for all our Gay\, Bi\, Trans\, Crossdressers and anyone part of our LGBTQI+ community – Whoever you are\, whatever you’re into\, YOU ARE WELCOME!
URL:https://wetonwellington.com.au/event/queer-af/2026-11-19/
LOCATION:Wet on Wellington\, 162 Wellington Street\, Collingwood\, VIC\, 3066\, Australia
ATTACH;FMTTYPE=image/jpeg:https://wetonwellington.com.au/wp-content/uploads/2025/10/Queer-AF-1080p-2026.jpg
END:VEVENT
BEGIN:VEVENT
DTSTART;TZID=Australia/Melbourne:20261120T200000
DTEND;TZID=Australia/Melbourne:20261120T230000
DTSTAMP:20260426T134602
CREATED:20251015T075300Z
LAST-MODIFIED:20251217T041551Z
UID:10000972-1795204800-1795215600@wetonwellington.com.au
SUMMARY:Happy Hour
DESCRIPTION:Kick off the weekend the RIGHT way at Wet on Wellington with Happy Hour every Friday from 8pm till 11pm! \nEnjoy a sauna with a $5 beer or even hang out in the spa with a $6 vodka\, lime and soda! Whatever your poison\, we have it here for Happy Hour! \n$5 OFF SELECT BEER & WINE AND $6 OFF SELECT SPIRITS!! \nDon’t forget we’re also open 24hrs till Monday 2am!!
URL:https://wetonwellington.com.au/event/happy-hour/2026-11-20/
LOCATION:Wet on Wellington\, 162 Wellington Street\, Collingwood\, VIC\, 3066\, Australia
ATTACH;FMTTYPE=image/png:https://wetonwellington.com.au/wp-content/uploads/2025/10/Red-Cream-Modern-Happy-Hour-Instagram-Story-1920-x-1080-px-2.png
END:VEVENT
BEGIN:VEVENT
DTSTART;TZID=Australia/Melbourne:20261123T183000
DTEND;TZID=Australia/Melbourne:20261124T020000
DTSTAMP:20260426T134602
CREATED:20251017T033530Z
LAST-MODIFIED:20260310T011442Z
UID:10001993-1795458600-1795485600@wetonwellington.com.au
SUMMARY:Xposed Nude Night
DESCRIPTION:Strip down and strut your stuff during Nude Night! Time to get those c*ck’s out and those bums up! Let it all hang out and get ‘xposed’ in a non-judgemental space. \nCompulsory nudity venue wide! \n*$35 Entry on a Public Holiday.
URL:https://wetonwellington.com.au/event/xposed-nude-night/2026-11-23/
LOCATION:Wet on Wellington\, 162 Wellington Street\, Collingwood\, VIC\, 3066\, Australia
ATTACH;FMTTYPE=image/jpeg:https://wetonwellington.com.au/wp-content/uploads/2025/10/Xposed-Nude-1080P-2026.jpg
END:VEVENT
BEGIN:VEVENT
DTSTART;TZID=Australia/Melbourne:20261124T183000
DTEND;TZID=Australia/Melbourne:20261124T183000
DTSTAMP:20260426T134602
CREATED:20251017T125629Z
LAST-MODIFIED:20260310T000622Z
UID:10001755-1795545000-1795545000@wetonwellington.com.au
SUMMARY:Furocious Bear Night
DESCRIPTION:A night for Bears\, Cubs\, Otters & Pandas…. And those who love them! Cum on in and wet your fur!
URL:https://wetonwellington.com.au/event/furocious-bear-night-2/2026-11-24/
LOCATION:Wet on Wellington\, 162 Wellington Street\, Collingwood\, VIC\, 3066\, Australia
ATTACH;FMTTYPE=image/jpeg:https://wetonwellington.com.au/wp-content/uploads/2025/10/Bear-Night-1080p-2026.jpg
END:VEVENT
BEGIN:VEVENT
DTSTART;TZID=Australia/Melbourne:20261125T183000
DTEND;TZID=Australia/Melbourne:20261125T183000
DTSTAMP:20260426T134602
CREATED:20251017T054648Z
LAST-MODIFIED:20260302T024512Z
UID:10001495-1795631400-1795631400@wetonwellington.com.au
SUMMARY:Silver Daddy Night
DESCRIPTION:A night for all our sexy DADDIES and those who love them!
URL:https://wetonwellington.com.au/event/silver-daddy-night/2026-11-25/
LOCATION:Wet on Wellington\, 162 Wellington Street\, Collingwood\, VIC\, 3066\, Australia
ATTACH;FMTTYPE=image/jpeg:https://wetonwellington.com.au/wp-content/uploads/2025/10/Silver-1080p-2026-.jpg
END:VEVENT
BEGIN:VEVENT
DTSTART;TZID=Australia/Melbourne:20261126T183000
DTEND;TZID=Australia/Melbourne:20261127T013000
DTSTAMP:20260426T134602
CREATED:20251017T054402Z
LAST-MODIFIED:20260310T010640Z
UID:10002470-1795717800-1795743000@wetonwellington.com.au
SUMMARY:Queer AF
DESCRIPTION:A night for all our Gay\, Bi\, Trans\, Crossdressers and anyone part of our LGBTQI+ community – Whoever you are\, whatever you’re into\, YOU ARE WELCOME!
URL:https://wetonwellington.com.au/event/queer-af/2026-11-26/
LOCATION:Wet on Wellington\, 162 Wellington Street\, Collingwood\, VIC\, 3066\, Australia
ATTACH;FMTTYPE=image/jpeg:https://wetonwellington.com.au/wp-content/uploads/2025/10/Queer-AF-1080p-2026.jpg
END:VEVENT
BEGIN:VEVENT
DTSTART;TZID=Australia/Melbourne:20261127T200000
DTEND;TZID=Australia/Melbourne:20261127T230000
DTSTAMP:20260426T134602
CREATED:20251015T075300Z
LAST-MODIFIED:20251217T041551Z
UID:10000973-1795809600-1795820400@wetonwellington.com.au
SUMMARY:Happy Hour
DESCRIPTION:Kick off the weekend the RIGHT way at Wet on Wellington with Happy Hour every Friday from 8pm till 11pm! \nEnjoy a sauna with a $5 beer or even hang out in the spa with a $6 vodka\, lime and soda! Whatever your poison\, we have it here for Happy Hour! \n$5 OFF SELECT BEER & WINE AND $6 OFF SELECT SPIRITS!! \nDon’t forget we’re also open 24hrs till Monday 2am!!
URL:https://wetonwellington.com.au/event/happy-hour/2026-11-27/
LOCATION:Wet on Wellington\, 162 Wellington Street\, Collingwood\, VIC\, 3066\, Australia
ATTACH;FMTTYPE=image/png:https://wetonwellington.com.au/wp-content/uploads/2025/10/Red-Cream-Modern-Happy-Hour-Instagram-Story-1920-x-1080-px-2.png
END:VEVENT
BEGIN:VEVENT
DTSTART;TZID=Australia/Melbourne:20261130T190000
DTEND;TZID=Australia/Melbourne:20261201T010000
DTSTAMP:20260426T134602
CREATED:20251217T040841Z
LAST-MODIFIED:20260309T032031Z
UID:10002248-1796065200-1796086800@wetonwellington.com.au
SUMMARY:Lady Like
DESCRIPTION:💋 For Ladies and Theybies!\n🥰 A Lesbian\, Queer\, Trans-femme\, AFAB & Sapphic Event!\n🕖 Every 5th Monday of the month! \n$30 ONLINE // $35 AT THE DOOR \nTICKETS: https://melbournesaunas.com.au/ticket/ladylike \n  \nStay tuned to the Lady Like Facebook and Instagram (@ladylike.events) pages for when tickets go on sale!
URL:https://wetonwellington.com.au/event/lady-like/2026-11-30/
LOCATION:Wet on Wellington\, 162 Wellington Street\, Collingwood\, VIC\, 3066\, Australia
ATTACH;FMTTYPE=image/jpeg:https://wetonwellington.com.au/wp-content/uploads/2025/12/Lady-Like-2024-1080p-NO-TEXT.jpg
END:VEVENT
BEGIN:VEVENT
DTSTART;TZID=Australia/Melbourne:20261201T183000
DTEND;TZID=Australia/Melbourne:20261201T183000
DTSTAMP:20260426T134602
CREATED:20251017T125629Z
LAST-MODIFIED:20260310T000622Z
UID:10001756-1796149800-1796149800@wetonwellington.com.au
SUMMARY:Furocious Bear Night
DESCRIPTION:A night for Bears\, Cubs\, Otters & Pandas…. And those who love them! Cum on in and wet your fur!
URL:https://wetonwellington.com.au/event/furocious-bear-night-2/2026-12-01/
LOCATION:Wet on Wellington\, 162 Wellington Street\, Collingwood\, VIC\, 3066\, Australia
ATTACH;FMTTYPE=image/jpeg:https://wetonwellington.com.au/wp-content/uploads/2025/10/Bear-Night-1080p-2026.jpg
END:VEVENT
BEGIN:VEVENT
DTSTART;TZID=Australia/Melbourne:20261202T183000
DTEND;TZID=Australia/Melbourne:20261202T183000
DTSTAMP:20260426T134602
CREATED:20251017T054648Z
LAST-MODIFIED:20260302T024512Z
UID:10001496-1796236200-1796236200@wetonwellington.com.au
SUMMARY:Silver Daddy Night
DESCRIPTION:A night for all our sexy DADDIES and those who love them!
URL:https://wetonwellington.com.au/event/silver-daddy-night/2026-12-02/
LOCATION:Wet on Wellington\, 162 Wellington Street\, Collingwood\, VIC\, 3066\, Australia
ATTACH;FMTTYPE=image/jpeg:https://wetonwellington.com.au/wp-content/uploads/2025/10/Silver-1080p-2026-.jpg
END:VEVENT
BEGIN:VEVENT
DTSTART;TZID=Australia/Melbourne:20261203T183000
DTEND;TZID=Australia/Melbourne:20261204T013000
DTSTAMP:20260426T134602
CREATED:20251017T054402Z
LAST-MODIFIED:20260310T010640Z
UID:10002471-1796322600-1796347800@wetonwellington.com.au
SUMMARY:Queer AF
DESCRIPTION:A night for all our Gay\, Bi\, Trans\, Crossdressers and anyone part of our LGBTQI+ community – Whoever you are\, whatever you’re into\, YOU ARE WELCOME!
URL:https://wetonwellington.com.au/event/queer-af/2026-12-03/
LOCATION:Wet on Wellington\, 162 Wellington Street\, Collingwood\, VIC\, 3066\, Australia
ATTACH;FMTTYPE=image/jpeg:https://wetonwellington.com.au/wp-content/uploads/2025/10/Queer-AF-1080p-2026.jpg
END:VEVENT
BEGIN:VEVENT
DTSTART;TZID=Australia/Melbourne:20261204T200000
DTEND;TZID=Australia/Melbourne:20261204T230000
DTSTAMP:20260426T134602
CREATED:20251015T075300Z
LAST-MODIFIED:20251217T041551Z
UID:10000974-1796414400-1796425200@wetonwellington.com.au
SUMMARY:Happy Hour
DESCRIPTION:Kick off the weekend the RIGHT way at Wet on Wellington with Happy Hour every Friday from 8pm till 11pm! \nEnjoy a sauna with a $5 beer or even hang out in the spa with a $6 vodka\, lime and soda! Whatever your poison\, we have it here for Happy Hour! \n$5 OFF SELECT BEER & WINE AND $6 OFF SELECT SPIRITS!! \nDon’t forget we’re also open 24hrs till Monday 2am!!
URL:https://wetonwellington.com.au/event/happy-hour/2026-12-04/
LOCATION:Wet on Wellington\, 162 Wellington Street\, Collingwood\, VIC\, 3066\, Australia
ATTACH;FMTTYPE=image/png:https://wetonwellington.com.au/wp-content/uploads/2025/10/Red-Cream-Modern-Happy-Hour-Instagram-Story-1920-x-1080-px-2.png
END:VEVENT
BEGIN:VEVENT
DTSTART;TZID=Australia/Melbourne:20261207T183000
DTEND;TZID=Australia/Melbourne:20261207T183000
DTSTAMP:20260426T134602
CREATED:20251015T074052Z
LAST-MODIFIED:20260414T021957Z
UID:10002196-1796668200-1796668200@wetonwellington.com.au
SUMMARY:Under 30s Night
DESCRIPTION:It’s time to party it up! \nThe first Monday of every month we dedicate to all boys 30 years old and younger! \nID required at entry. \nVCAT EXEMPTION: #H112/2023
URL:https://wetonwellington.com.au/event/under-30s-night/2026-12-07/
LOCATION:Wet on Wellington\, 162 Wellington Street\, Collingwood\, VIC\, 3066\, Australia
ATTACH;FMTTYPE=image/jpeg:https://wetonwellington.com.au/wp-content/uploads/2025/10/Under-30s-2024-1080p-PSD.jpg
END:VEVENT
BEGIN:VEVENT
DTSTART;TZID=Australia/Melbourne:20261208T183000
DTEND;TZID=Australia/Melbourne:20261208T183000
DTSTAMP:20260426T134602
CREATED:20251017T125629Z
LAST-MODIFIED:20260310T000622Z
UID:10001757-1796754600-1796754600@wetonwellington.com.au
SUMMARY:Furocious Bear Night
DESCRIPTION:A night for Bears\, Cubs\, Otters & Pandas…. And those who love them! Cum on in and wet your fur!
URL:https://wetonwellington.com.au/event/furocious-bear-night-2/2026-12-08/
LOCATION:Wet on Wellington\, 162 Wellington Street\, Collingwood\, VIC\, 3066\, Australia
ATTACH;FMTTYPE=image/jpeg:https://wetonwellington.com.au/wp-content/uploads/2025/10/Bear-Night-1080p-2026.jpg
END:VEVENT
BEGIN:VEVENT
DTSTART;TZID=Australia/Melbourne:20261209T183000
DTEND;TZID=Australia/Melbourne:20261209T183000
DTSTAMP:20260426T134602
CREATED:20251017T054648Z
LAST-MODIFIED:20260302T024512Z
UID:10001497-1796841000-1796841000@wetonwellington.com.au
SUMMARY:Silver Daddy Night
DESCRIPTION:A night for all our sexy DADDIES and those who love them!
URL:https://wetonwellington.com.au/event/silver-daddy-night/2026-12-09/
LOCATION:Wet on Wellington\, 162 Wellington Street\, Collingwood\, VIC\, 3066\, Australia
ATTACH;FMTTYPE=image/jpeg:https://wetonwellington.com.au/wp-content/uploads/2025/10/Silver-1080p-2026-.jpg
END:VEVENT
BEGIN:VEVENT
DTSTART;TZID=Australia/Melbourne:20261210T183000
DTEND;TZID=Australia/Melbourne:20261211T013000
DTSTAMP:20260426T134602
CREATED:20251017T054402Z
LAST-MODIFIED:20260310T010640Z
UID:10002472-1796927400-1796952600@wetonwellington.com.au
SUMMARY:Queer AF
DESCRIPTION:A night for all our Gay\, Bi\, Trans\, Crossdressers and anyone part of our LGBTQI+ community – Whoever you are\, whatever you’re into\, YOU ARE WELCOME!
URL:https://wetonwellington.com.au/event/queer-af/2026-12-10/
LOCATION:Wet on Wellington\, 162 Wellington Street\, Collingwood\, VIC\, 3066\, Australia
ATTACH;FMTTYPE=image/jpeg:https://wetonwellington.com.au/wp-content/uploads/2025/10/Queer-AF-1080p-2026.jpg
END:VEVENT
BEGIN:VEVENT
DTSTART;TZID=Australia/Melbourne:20261211T200000
DTEND;TZID=Australia/Melbourne:20261211T230000
DTSTAMP:20260426T134602
CREATED:20251015T075300Z
LAST-MODIFIED:20251217T041551Z
UID:10000975-1797019200-1797030000@wetonwellington.com.au
SUMMARY:Happy Hour
DESCRIPTION:Kick off the weekend the RIGHT way at Wet on Wellington with Happy Hour every Friday from 8pm till 11pm! \nEnjoy a sauna with a $5 beer or even hang out in the spa with a $6 vodka\, lime and soda! Whatever your poison\, we have it here for Happy Hour! \n$5 OFF SELECT BEER & WINE AND $6 OFF SELECT SPIRITS!! \nDon’t forget we’re also open 24hrs till Monday 2am!!
URL:https://wetonwellington.com.au/event/happy-hour/2026-12-11/
LOCATION:Wet on Wellington\, 162 Wellington Street\, Collingwood\, VIC\, 3066\, Australia
ATTACH;FMTTYPE=image/png:https://wetonwellington.com.au/wp-content/uploads/2025/10/Red-Cream-Modern-Happy-Hour-Instagram-Story-1920-x-1080-px-2.png
END:VEVENT
BEGIN:VEVENT
DTSTART;TZID=Australia/Melbourne:20261214T183000
DTEND;TZID=Australia/Melbourne:20261215T020000
DTSTAMP:20260426T134602
CREATED:20251017T033530Z
LAST-MODIFIED:20260310T011442Z
UID:10001994-1797273000-1797300000@wetonwellington.com.au
SUMMARY:Xposed Nude Night
DESCRIPTION:Strip down and strut your stuff during Nude Night! Time to get those c*ck’s out and those bums up! Let it all hang out and get ‘xposed’ in a non-judgemental space. \nCompulsory nudity venue wide! \n*$35 Entry on a Public Holiday.
URL:https://wetonwellington.com.au/event/xposed-nude-night/2026-12-14/
LOCATION:Wet on Wellington\, 162 Wellington Street\, Collingwood\, VIC\, 3066\, Australia
ATTACH;FMTTYPE=image/jpeg:https://wetonwellington.com.au/wp-content/uploads/2025/10/Xposed-Nude-1080P-2026.jpg
END:VEVENT
BEGIN:VEVENT
DTSTART;TZID=Australia/Melbourne:20261215T183000
DTEND;TZID=Australia/Melbourne:20261215T183000
DTSTAMP:20260426T134602
CREATED:20251017T125629Z
LAST-MODIFIED:20260310T000622Z
UID:10001758-1797359400-1797359400@wetonwellington.com.au
SUMMARY:Furocious Bear Night
DESCRIPTION:A night for Bears\, Cubs\, Otters & Pandas…. And those who love them! Cum on in and wet your fur!
URL:https://wetonwellington.com.au/event/furocious-bear-night-2/2026-12-15/
LOCATION:Wet on Wellington\, 162 Wellington Street\, Collingwood\, VIC\, 3066\, Australia
ATTACH;FMTTYPE=image/jpeg:https://wetonwellington.com.au/wp-content/uploads/2025/10/Bear-Night-1080p-2026.jpg
END:VEVENT
BEGIN:VEVENT
DTSTART;TZID=Australia/Melbourne:20261216T183000
DTEND;TZID=Australia/Melbourne:20261216T183000
DTSTAMP:20260426T134602
CREATED:20251017T054648Z
LAST-MODIFIED:20260302T024512Z
UID:10001498-1797445800-1797445800@wetonwellington.com.au
SUMMARY:Silver Daddy Night
DESCRIPTION:A night for all our sexy DADDIES and those who love them!
URL:https://wetonwellington.com.au/event/silver-daddy-night/2026-12-16/
LOCATION:Wet on Wellington\, 162 Wellington Street\, Collingwood\, VIC\, 3066\, Australia
ATTACH;FMTTYPE=image/jpeg:https://wetonwellington.com.au/wp-content/uploads/2025/10/Silver-1080p-2026-.jpg
END:VEVENT
BEGIN:VEVENT
DTSTART;TZID=Australia/Melbourne:20261217T183000
DTEND;TZID=Australia/Melbourne:20261218T013000
DTSTAMP:20260426T134602
CREATED:20251017T054402Z
LAST-MODIFIED:20260310T010640Z
UID:10002473-1797532200-1797557400@wetonwellington.com.au
SUMMARY:Queer AF
DESCRIPTION:A night for all our Gay\, Bi\, Trans\, Crossdressers and anyone part of our LGBTQI+ community – Whoever you are\, whatever you’re into\, YOU ARE WELCOME!
URL:https://wetonwellington.com.au/event/queer-af/2026-12-17/
LOCATION:Wet on Wellington\, 162 Wellington Street\, Collingwood\, VIC\, 3066\, Australia
ATTACH;FMTTYPE=image/jpeg:https://wetonwellington.com.au/wp-content/uploads/2025/10/Queer-AF-1080p-2026.jpg
END:VEVENT
BEGIN:VEVENT
DTSTART;TZID=Australia/Melbourne:20261218T200000
DTEND;TZID=Australia/Melbourne:20261218T230000
DTSTAMP:20260426T134602
CREATED:20251015T075300Z
LAST-MODIFIED:20251217T041551Z
UID:10000976-1797624000-1797634800@wetonwellington.com.au
SUMMARY:Happy Hour
DESCRIPTION:Kick off the weekend the RIGHT way at Wet on Wellington with Happy Hour every Friday from 8pm till 11pm! \nEnjoy a sauna with a $5 beer or even hang out in the spa with a $6 vodka\, lime and soda! Whatever your poison\, we have it here for Happy Hour! \n$5 OFF SELECT BEER & WINE AND $6 OFF SELECT SPIRITS!! \nDon’t forget we’re also open 24hrs till Monday 2am!!
URL:https://wetonwellington.com.au/event/happy-hour/2026-12-18/
LOCATION:Wet on Wellington\, 162 Wellington Street\, Collingwood\, VIC\, 3066\, Australia
ATTACH;FMTTYPE=image/png:https://wetonwellington.com.au/wp-content/uploads/2025/10/Red-Cream-Modern-Happy-Hour-Instagram-Story-1920-x-1080-px-2.png
END:VEVENT
BEGIN:VEVENT
DTSTART;TZID=Australia/Melbourne:20261221T190000
DTEND;TZID=Australia/Melbourne:20261222T020000
DTSTAMP:20260426T134602
CREATED:20251015T074736Z
LAST-MODIFIED:20251017T054344Z
UID:10000609-1797879600-1797904800@wetonwellington.com.au
SUMMARY:Swingers Couples Pool Party
DESCRIPTION:$100 COUPLES\, $45 LADIES\, $350 SINGLE MEN* | Melbourne’ s most luxurious and erotic Men’s Club opens its doors for Swingers to engage in the sensuality of a naked and uninhibited Pool Party. Guests can indulge in all of the erotic and luxurious facilities that Wet On Wellington is famous for. \n*Single Men are required to pre-book by calling the venue on (03) 9419 2210. \nPlease note: Couples that arrive together must also depart together as a couple. Females can not depart without their male partner. Men are NOT allowed to be upstairs without a female partner unless entered as a Single Male.
URL:https://wetonwellington.com.au/event/swingers-couples-pool-party/2026-12-21/
LOCATION:Wet on Wellington\, 162 Wellington Street\, Collingwood\, VIC\, 3066\, Australia
ATTACH;FMTTYPE=image/jpeg:https://wetonwellington.com.au/wp-content/uploads/2025/10/Swingers-Couples-Pool-Party-1080p-2025.jpg
ORGANIZER;CN="Melbourne Swingers":MAILTO:info@melbourne-swingers.com.au
END:VEVENT
END:VCALENDAR